BEGIN:VCALENDAR
VERSION:2.0
PRODID:spatie/icalendar-generator
DESCRIPTION:Events from Wooster Hope Center
X-WR-CALDESC:Events from Wooster Hope Center
REFRESH-INTERVAL;VALUE=DURATION:PT1440M
X-PUBLISHED-TTL:PT1440M
BEGIN:VTIMEZONE
TZID:America/New_York
BEGIN:STANDARD
DTSTART:20251102T020000Z
TZOFFSETFROM:-0400
TZOFFSETTO:-0500
END:STANDARD
BEGIN:DAYLIGHT
DTSTART:20260308T020000Z
TZOFFSETFROM:-0500
TZOFFSETTO:-0400
END:DAYLIGHT
BEGIN:STANDARD
DTSTART:20261101T020000Z
TZOFFSETFROM:-0400
TZOFFSETTO:-0500
END:STANDARD
END:VTIMEZONE
BEGIN:VTIMEZONE
TZID:UTC
BEGIN:STANDARD
DTSTART:20250727T134735Z
TZOFFSETFROM:+0000
TZOFFSETTO:+0000
END:STANDARD
END:VTIMEZONE
BEGIN:VEVENT
UID:1082-4
DTSTAMP:20260423T134735Z
SUMMARY:Friday Food Pantry
LOCATION:Wooster Hope Center 807 Spruce St.  Wooster OH 44691
ORGANIZER;CN=Bobby Warren:MAILTO:woostermedia@gmail.com
RRULE:FREQ=WEEKLY;UNTIL=20350803T000000Z
DTSTART;TZID=America/New_York:20260501T100000
DTEND;TZID=America/New_York:20260501T120000
X-ALT-DESC;FMTTYPE=TEXT/HTML:
CATEGORIES:General
URL;VALUE=URI:https://woosterhopecenter.org/mc-events/friday-food-pantry/?m
 c_id=1082
METHOD:PUBLISH
END:VEVENT
END:VCALENDAR