BEGIN:VCALENDAR
VERSION:2.0
PRODID:spatie/icalendar-generator
DESCRIPTION:Events from Wooster Hope Center
X-WR-CALDESC:Events from Wooster Hope Center
REFRESH-INTERVAL;VALUE=DURATION:PT1440M
X-PUBLISHED-TTL:PT1440M
BEGIN:VTIMEZONE
TZID:America/New_York
BEGIN:DAYLIGHT
DTSTART:20250309T020000Z
TZOFFSETFROM:-0500
TZOFFSETTO:-0400
END:DAYLIGHT
BEGIN:STANDARD
DTSTART:20251102T020000Z
TZOFFSETFROM:-0400
TZOFFSETTO:-0500
END:STANDARD
END:VTIMEZONE
BEGIN:VTIMEZONE
TZID:UTC
BEGIN:STANDARD
DTSTART:20250727T164605Z
TZOFFSETFROM:+0000
TZOFFSETTO:+0000
END:STANDARD
END:VTIMEZONE
BEGIN:VEVENT
UID:2-2
DTSTAMP:20260423T164605Z
SUMMARY:Wednesday Food Pantry
LOCATION:Wooster Hope Center 807 Spruce St.  Wooster OH 44691
ORGANIZER;CN=Bobby Warren:MAILTO:woostermedia@gmail.com
RRULE:FREQ=WEEKLY;UNTIL=20350801T000000Z
DTSTART;TZID=America/New_York:20250806T120000
DTEND;TZID=America/New_York:20250806T150000
X-ALT-DESC;FMTTYPE=TEXT/HTML:
CATEGORIES:General
URL;VALUE=URI:https://woosterhopecenter.org/mc-events/wednesday-food-pantry
 /?mc_id=2
METHOD:PUBLISH
END:VEVENT
END:VCALENDAR